Package: SpectriPy Version: 0.99.13 Command: /Library/Frameworks/R.framework/Resources/bin/R CMD build --keep-empty-dirs --no-resave-data SpectriPy StartedAt: 2025-10-21 17:52:14 -0400 (Tue, 21 Oct 2025) EndedAt: 2025-10-21 17:52:23 -0400 (Tue, 21 Oct 2025) EllapsedTime: 9.1 seconds RetCode: 1 Status: ERROR PackageFile: None PackageFileSize: NA