Package: SpectralTAD Version: 1.25.0 Command: /home/biocbuild/bbs-3.22-bioc/R/bin/R CMD INSTALL SpectralTAD StartedAt: 2025-10-06 15:32:19 -0400 (Mon, 06 Oct 2025) EndedAt: 2025-10-06 15:32:30 -0400 (Mon, 06 Oct 2025) EllapsedTime: 10.7 seconds RetCode: 0 Status: OK