Package: Spectra Version: 1.19.11 Command: /home/biocbuild/bbs-3.22-bioc/R/bin/R CMD INSTALL Spectra StartedAt: 2025-10-27 15:16:28 -0400 (Mon, 27 Oct 2025) EndedAt: 2025-10-27 15:16:44 -0400 (Mon, 27 Oct 2025) EllapsedTime: 15.9 seconds RetCode: 0 Status: OK