Package: Spectra Version: 1.19.11 Command: /home/biocbuild/bbs-3.22-bioc/R/bin/R CMD build --keep-empty-dirs --no-resave-data --md5 Spectra StartedAt: 2025-10-28 20:14:51 -0400 (Tue, 28 Oct 2025) EndedAt: 2025-10-28 20:15:44 -0400 (Tue, 28 Oct 2025) EllapsedTime: 53.0 seconds RetCode: 0 Status: OK PackageFile: Spectra_1.19.11.tar.gz PackageFileSize: 1.812 MiB