Package: SpatialFeatureExperiment Version: 1.13.0 Command: /home/biocbuild/bbs-3.23-bioc/R/bin/R CMD INSTALL SpatialFeatureExperiment StartedAt: 2025-11-09 15:37:12 -0500 (Sun, 09 Nov 2025) EndedAt: 2025-11-09 15:38:09 -0500 (Sun, 09 Nov 2025) EllapsedTime: 56.8 seconds RetCode: 0 Status: OK