Package: SpatialFeatureExperiment Version: 1.13.0 Command: /home/biocbuild/bbs-3.23-bioc/R/bin/R CMD build --keep-empty-dirs --no-resave-data SpatialFeatureExperiment StartedAt: 2025-11-09 20:09:43 -0500 (Sun, 09 Nov 2025) EndedAt: 2025-11-09 20:11:38 -0500 (Sun, 09 Nov 2025) EllapsedTime: 115.1 seconds RetCode: 1 Status: ERROR PackageFile: None PackageFileSize: NA