Package: SpatialFeatureExperiment Version: 1.11.1 Command: /Library/Frameworks/R.framework/Resources/bin/R CMD INSTALL SpatialFeatureExperiment StartedAt: 2025-10-17 15:30:07 -0400 (Fri, 17 Oct 2025) EndedAt: 2025-10-17 15:31:25 -0400 (Fri, 17 Oct 2025) EllapsedTime: 77.7 seconds RetCode: 0 Status: OK