Package: SpatialFeatureExperiment Version: 1.11.1 Command: /Library/Frameworks/R.framework/Resources/bin/R CMD build --keep-empty-dirs --no-resave-data SpatialFeatureExperiment StartedAt: 2025-10-16 19:59:05 -0400 (Thu, 16 Oct 2025) EndedAt: 2025-10-16 20:01:33 -0400 (Thu, 16 Oct 2025) EllapsedTime: 148.2 seconds RetCode: 1 Status: ERROR PackageFile: None PackageFileSize: NA