Package: SpatialFeatureExperiment Version: 1.11.1 Command: rm -rf SpatialFeatureExperiment.buildbin-libdir && mkdir SpatialFeatureExperiment.buildbin-libdir && /Users/biocbuild/BBS/utils/build-universal.sh SpatialFeatureExperiment_1.11.1.tar.gz /Library/Frameworks/R.framework/Resources/bin/R SpatialFeatureExperiment.buildbin-libdir StartedAt: 2025-10-09 02:58:02 -0400 (Thu, 09 Oct 2025) EndedAt: 2025-10-09 02:59:27 -0400 (Thu, 09 Oct 2025) EllapsedTime: 84.4 seconds RetCode: 0 Status: OK PackageFile: SpatialFeatureExperiment_1.11.1.tgz PackageFileSize: 2.929 MiB