Package: SpatialFeatureExperiment Version: 1.11.1 Command: /Library/Frameworks/R.framework/Resources/bin/R CMD INSTALL SpatialFeatureExperiment StartedAt: 2025-10-03 15:16:42 -0400 (Fri, 03 Oct 2025) EndedAt: 2025-10-03 15:17:03 -0400 (Fri, 03 Oct 2025) EllapsedTime: 21.8 seconds RetCode: 0 Status: OK