Package: SpatialFeatureExperiment Version: 1.11.1 Command: /Library/Frameworks/R.framework/Resources/bin/R CMD build --keep-empty-dirs --no-resave-data SpatialFeatureExperiment StartedAt: 2025-10-03 17:48:15 -0400 (Fri, 03 Oct 2025) EndedAt: 2025-10-03 17:49:09 -0400 (Fri, 03 Oct 2025) EllapsedTime: 53.6 seconds RetCode: 0 Status: OK PackageFile: SpatialFeatureExperiment_1.11.1.tar.gz PackageFileSize: 1.819 MiB