Package: SpatialFeatureExperiment Version: 1.11.1 Command: rm -rf SpatialFeatureExperiment.buildbin-libdir && mkdir SpatialFeatureExperiment.buildbin-libdir && /Users/biocbuild/BBS/utils/build-universal.sh SpatialFeatureExperiment_1.11.1.tar.gz /Library/Frameworks/R.framework/Resources/bin/R SpatialFeatureExperiment.buildbin-libdir StartedAt: 2025-10-03 22:57:04 -0400 (Fri, 03 Oct 2025) EndedAt: 2025-10-03 22:57:28 -0400 (Fri, 03 Oct 2025) EllapsedTime: 23.5 seconds RetCode: 0 Status: OK PackageFile: SpatialFeatureExperiment_1.11.1.tgz PackageFileSize: 2.934 MiB