Package: SpatialExperimentIO Version: 1.1.0 Command: /Library/Frameworks/R.framework/Resources/bin/R CMD INSTALL SpatialExperimentIO StartedAt: 2025-10-08 15:44:50 -0400 (Wed, 08 Oct 2025) EndedAt: 2025-10-08 15:45:33 -0400 (Wed, 08 Oct 2025) EllapsedTime: 42.8 seconds RetCode: 0 Status: OK