Package: SpatialExperimentIO Version: 1.1.0 Command: /Library/Frameworks/R.framework/Resources/bin/R CMD build --keep-empty-dirs --no-resave-data SpatialExperimentIO StartedAt: 2025-10-08 19:26:59 -0400 (Wed, 08 Oct 2025) EndedAt: 2025-10-08 19:28:14 -0400 (Wed, 08 Oct 2025) EllapsedTime: 75.2 seconds RetCode: 0 Status: OK PackageFile: SpatialExperimentIO_1.1.0.tar.gz PackageFileSize: 608 KiB