Package: SpatialExperimentIO Version: 1.1.0 Command: /Library/Frameworks/R.framework/Resources/bin/R CMD INSTALL SpatialExperimentIO StartedAt: 2025-10-03 15:25:02 -0400 (Fri, 03 Oct 2025) EndedAt: 2025-10-03 15:25:15 -0400 (Fri, 03 Oct 2025) EllapsedTime: 12.6 seconds RetCode: 0 Status: OK