Package: SpatialExperimentIO Version: 1.1.0 Command: /Library/Frameworks/R.framework/Resources/bin/R CMD build --keep-empty-dirs --no-resave-data SpatialExperimentIO StartedAt: 2025-10-03 17:48:02 -0400 (Fri, 03 Oct 2025) EndedAt: 2025-10-03 17:48:24 -0400 (Fri, 03 Oct 2025) EllapsedTime: 21.2 seconds RetCode: 0 Status: OK PackageFile: SpatialExperimentIO_1.1.0.tar.gz PackageFileSize: 608.1 KiB