Package: SpatialExperimentIO Version: 1.1.0 Command: rm -rf SpatialExperimentIO.buildbin-libdir && mkdir SpatialExperimentIO.buildbin-libdir && /Users/biocbuild/BBS/utils/build-universal.sh SpatialExperimentIO_1.1.0.tar.gz /Library/Frameworks/R.framework/Resources/bin/R SpatialExperimentIO.buildbin-libdir StartedAt: 2025-10-03 22:57:02 -0400 (Fri, 03 Oct 2025) EndedAt: 2025-10-03 22:57:16 -0400 (Fri, 03 Oct 2025) EllapsedTime: 14.3 seconds RetCode: 0 Status: OK PackageFile: SpatialExperimentIO_1.1.0.tgz PackageFileSize: 649.5 KiB