Package: SpatialDecon Version: 1.21.0 Command: /home/biocbuild/bbs-3.23-bioc/R/bin/R CMD INSTALL SpatialDecon StartedAt: 2025-11-20 16:00:31 -0500 (Thu, 20 Nov 2025) EndedAt: 2025-11-20 16:00:55 -0500 (Thu, 20 Nov 2025) EllapsedTime: 24.3 seconds RetCode: 0 Status: OK