Package: SpatialDecon Version: 1.21.0 Command: rm -rf SpatialDecon.buildbin-libdir && mkdir SpatialDecon.buildbin-libdir && /Users/biocbuild/BBS/utils/build-universal.sh SpatialDecon_1.21.0.tar.gz /Library/Frameworks/R.framework/Resources/bin/R SpatialDecon.buildbin-libdir StartedAt: 2025-11-18 07:25:46 -0500 (Tue, 18 Nov 2025) EndedAt: 2025-11-18 07:26:23 -0500 (Tue, 18 Nov 2025) EllapsedTime: 37.0 seconds RetCode: 0 Status: OK PackageFile: SpatialDecon_1.21.0.tgz PackageFileSize: 4.291 MiB