Package: SparseSignatures Version: 2.21.0 Command: /home/biocbuild/bbs-3.23-bioc/R/bin/R CMD INSTALL SparseSignatures StartedAt: 2025-11-07 15:28:46 -0500 (Fri, 07 Nov 2025) EndedAt: 2025-11-07 15:29:26 -0500 (Fri, 07 Nov 2025) EllapsedTime: 39.8 seconds RetCode: 0 Status: OK