Package: SparseSignatures Version: 2.19.1 Command: /Library/Frameworks/R.framework/Resources/bin/R CMD INSTALL SparseSignatures StartedAt: 2025-09-30 15:29:26 -0400 (Tue, 30 Sep 2025) EndedAt: 2025-09-30 15:30:20 -0400 (Tue, 30 Sep 2025) EllapsedTime: 54.2 seconds RetCode: 0 Status: OK