Package: SparseSignatures Version: 2.19.1 Command: rm -rf SparseSignatures.buildbin-libdir && mkdir SparseSignatures.buildbin-libdir && /Users/biocbuild/BBS/utils/build-universal.sh SparseSignatures_2.19.1.tar.gz /Library/Frameworks/R.framework/Resources/bin/R SparseSignatures.buildbin-libdir StartedAt: 2025-10-01 02:08:41 -0400 (Wed, 01 Oct 2025) EndedAt: 2025-10-01 02:09:39 -0400 (Wed, 01 Oct 2025) EllapsedTime: 57.7 seconds RetCode: 0 Status: OK PackageFile: SparseSignatures_2.19.1.tgz PackageFileSize: 1.59 MiB