Package: SparseSignatures Version: 2.19.2 Maintainer: Luca De Sano MaintainerEmail: luca.desano at gmail.com git_url: https://git.bioconductor.org/packages/SparseSignatures git_branch: devel git_last_commit: fe88503 git_last_commit_date: 2025-10-03 13:00:02 -0400 (Fri, 03 Oct 2025)