Package: SparseArray Version: 1.9.1 Command: /home/biocbuild/R/R/bin/R CMD INSTALL SparseArray StartedAt: 2025-09-29 20:46:42 -0000 (Mon, 29 Sep 2025) EndedAt: 2025-09-29 20:47:29 -0000 (Mon, 29 Sep 2025) EllapsedTime: 47.7 seconds RetCode: 0 Status: OK