Package: SparseArray Version: 1.11.1 Command: /home/biocbuild/bbs-3.23-bioc/R/bin/R CMD build --keep-empty-dirs --no-resave-data SparseArray StartedAt: 2025-11-07 20:08:16 -0500 (Fri, 07 Nov 2025) EndedAt: 2025-11-07 20:08:20 -0500 (Fri, 07 Nov 2025) EllapsedTime: 4.0 seconds RetCode: 1 Status: ERROR PackageFile: None PackageFileSize: NA