Package: SmartPhos Version: 0.99.30 Command: /home/biocbuild/bbs-3.22-bioc/R/bin/R CMD INSTALL SmartPhos StartedAt: 2025-10-22 15:36:42 -0400 (Wed, 22 Oct 2025) EndedAt: 2025-10-22 15:37:14 -0400 (Wed, 22 Oct 2025) EllapsedTime: 32.1 seconds RetCode: 0 Status: OK