Package: SimFFPE Version: 1.21.0 Command: /home/biocbuild/bbs-3.22-bioc/R/bin/R CMD INSTALL SimFFPE StartedAt: 2025-10-01 15:18:31 -0400 (Wed, 01 Oct 2025) EndedAt: 2025-10-01 15:18:45 -0400 (Wed, 01 Oct 2025) EllapsedTime: 14.1 seconds RetCode: 0 Status: OK