Package: SharedObject Version: 1.25.0 Command: /home/biocbuild/bbs-3.23-bioc/R/bin/R CMD INSTALL SharedObject StartedAt: 2025-11-07 15:11:59 -0500 (Fri, 07 Nov 2025) EndedAt: 2025-11-07 15:12:26 -0500 (Fri, 07 Nov 2025) EllapsedTime: 27.3 seconds RetCode: 0 Status: OK