Package: SharedObject Version: 1.25.0 Command: /home/biocbuild/bbs-3.23-bioc/R/bin/R CMD build --keep-empty-dirs --no-resave-data SharedObject StartedAt: 2025-11-07 19:59:49 -0500 (Fri, 07 Nov 2025) EndedAt: 2025-11-07 20:00:28 -0500 (Fri, 07 Nov 2025) EllapsedTime: 39.0 seconds RetCode: 0 Status: OK PackageFile: SharedObject_1.25.0.tar.gz PackageFileSize: 2.824 MiB