Package: SeqVarTools Version: 1.47.0 Command: /home/biocbuild/bbs-3.22-bioc/R/bin/R CMD INSTALL SeqVarTools StartedAt: 2025-10-08 15:34:47 -0400 (Wed, 08 Oct 2025) EndedAt: 2025-10-08 15:35:09 -0400 (Wed, 08 Oct 2025) EllapsedTime: 21.4 seconds RetCode: 0 Status: OK