Package: SeqGate Version: 1.19.0 Command: /home/biocbuild/bbs-3.22-bioc/R/bin/R CMD INSTALL SeqGate StartedAt: 2025-10-01 15:20:21 -0400 (Wed, 01 Oct 2025) EndedAt: 2025-10-01 15:20:43 -0400 (Wed, 01 Oct 2025) EllapsedTime: 22.2 seconds RetCode: 0 Status: OK