Package: SeqGate Version: 1.19.0 Command: /home/biocbuild/bbs-3.22-bioc/R/bin/R CMD build --keep-empty-dirs --no-resave-data --md5 SeqGate StartedAt: 2025-10-02 20:01:33 -0400 (Thu, 02 Oct 2025) EndedAt: 2025-10-02 20:02:21 -0400 (Thu, 02 Oct 2025) EllapsedTime: 48.1 seconds RetCode: 0 Status: OK PackageFile: SeqGate_1.19.0.tar.gz PackageFileSize: 249.2 KiB