Package: SeqArray Version: 1.51.0 Command: /home/biocbuild/bbs-3.23-bioc/R/bin/R CMD INSTALL SeqArray StartedAt: 2025-11-16 15:17:29 -0500 (Sun, 16 Nov 2025) EndedAt: 2025-11-16 15:18:10 -0500 (Sun, 16 Nov 2025) EllapsedTime: 41.1 seconds RetCode: 0 Status: OK