Package: SeqArray Version: 1.51.0 Command: /home/biocbuild/bbs-3.23-bioc/R/bin/R CMD build --keep-empty-dirs --no-resave-data SeqArray StartedAt: 2025-11-14 20:01:19 -0500 (Fri, 14 Nov 2025) EndedAt: 2025-11-14 20:02:56 -0500 (Fri, 14 Nov 2025) EllapsedTime: 97.1 seconds RetCode: 1 Status: ERROR PackageFile: None PackageFileSize: NA