Package: SeqArray Version: 1.49.7 Command: /Library/Frameworks/R.framework/Resources/bin/R CMD INSTALL SeqArray StartedAt: 2025-09-29 15:16:37 -0400 (Mon, 29 Sep 2025) EndedAt: 2025-09-29 15:17:32 -0400 (Mon, 29 Sep 2025) EllapsedTime: 55.4 seconds RetCode: 0 Status: OK