Package: Scale4C Version: 1.31.1 Command: /home/biocbuild/bbs-3.22-bioc/R/bin/R CMD INSTALL Scale4C StartedAt: 2025-10-05 15:17:45 -0400 (Sun, 05 Oct 2025) EndedAt: 2025-10-05 15:18:09 -0400 (Sun, 05 Oct 2025) EllapsedTime: 24.2 seconds RetCode: 0 Status: OK