Package: SamSPECTRAL Version: 1.63.0 Command: /home/biocbuild/bbs-3.22-bioc/R/bin/R CMD INSTALL SamSPECTRAL StartedAt: 2025-10-21 15:05:02 -0400 (Tue, 21 Oct 2025) EndedAt: 2025-10-21 15:05:05 -0400 (Tue, 21 Oct 2025) EllapsedTime: 3.5 seconds RetCode: 0 Status: OK