Package: SWATH2stats Version: 1.39.1 Command: /home/biocbuild/bbs-3.22-bioc/R/bin/R CMD INSTALL SWATH2stats StartedAt: 2025-10-09 15:28:22 -0400 (Thu, 09 Oct 2025) EndedAt: 2025-10-09 15:28:40 -0400 (Thu, 09 Oct 2025) EllapsedTime: 17.2 seconds RetCode: 0 Status: OK