Package: SWATH2stats Version: 1.39.0 Command: /home/biocbuild/bbs-3.22-bioc/R/bin/R CMD build --keep-empty-dirs --no-resave-data --md5 SWATH2stats StartedAt: 2025-10-08 20:48:55 -0400 (Wed, 08 Oct 2025) EndedAt: 2025-10-08 20:49:44 -0400 (Wed, 08 Oct 2025) EllapsedTime: 49.0 seconds RetCode: 0 Status: OK PackageFile: SWATH2stats_1.39.0.tar.gz PackageFileSize: 3.036 MiB