Package: SQLDataFrame Version: 1.23.0 Command: /home/biocbuild/R/R/bin/R CMD check --install=check:SQLDataFrame.install-out.txt --library=/home/biocbuild/R/R/site-library --no-vignettes --timings SQLDataFrame_1.23.0.tar.gz StartedAt: 2025-09-30 13:48:56 -0000 (Tue, 30 Sep 2025) EndedAt: 2025-09-30 13:54:03 -0000 (Tue, 30 Sep 2025) EllapsedTime: 307.7 seconds RetCode: 1 Status: ERROR CheckDir: SQLDataFrame.Rcheck Warnings: NA