Package: SQLDataFrame Version: 1.25.0 Command: /home/biocbuild/bbs-3.23-bioc/R/bin/R CMD INSTALL SQLDataFrame StartedAt: 2025-11-04 15:14:33 -0500 (Tue, 04 Nov 2025) EndedAt: 2025-11-04 15:14:50 -0500 (Tue, 04 Nov 2025) EllapsedTime: 17.1 seconds RetCode: 0 Status: OK