Package: SQLDataFrame Version: 1.23.0 Command: /Library/Frameworks/R.framework/Resources/bin/R CMD check --install=check:SQLDataFrame.install-out.txt --library=/Library/Frameworks/R.framework/Resources/library --no-vignettes --timings SQLDataFrame_1.23.0.tar.gz StartedAt: 2025-10-02 00:45:53 -0400 (Thu, 02 Oct 2025) EndedAt: 2025-10-02 00:48:50 -0400 (Thu, 02 Oct 2025) EllapsedTime: 177.3 seconds RetCode: 1 Status: ERROR CheckDir: SQLDataFrame.Rcheck Warnings: NA