Package: SPsimSeq Version: 1.21.0 Command: /home/biocbuild/bbs-3.23-bioc/R/bin/R CMD build --keep-empty-dirs --no-resave-data SPsimSeq StartedAt: 2025-11-26 20:18:29 -0500 (Wed, 26 Nov 2025) EndedAt: 2025-11-26 20:22:21 -0500 (Wed, 26 Nov 2025) EllapsedTime: 231.3 seconds RetCode: 0 Status: OK PackageFile: SPsimSeq_1.21.0.tar.gz PackageFileSize: 766.2 KiB