Package: SPsimSeq Version: 1.21.0 Command: /Library/Frameworks/R.framework/Resources/bin/R CMD INSTALL SPsimSeq StartedAt: 2025-11-21 15:38:47 -0500 (Fri, 21 Nov 2025) EndedAt: 2025-11-21 15:39:34 -0500 (Fri, 21 Nov 2025) EllapsedTime: 47.1 seconds RetCode: 0 Status: OK