Package: SPsimSeq Version: 1.21.0 Command: /Library/Frameworks/R.framework/Resources/bin/R CMD build --keep-empty-dirs --no-resave-data SPsimSeq StartedAt: 2025-11-21 18:53:11 -0500 (Fri, 21 Nov 2025) EndedAt: 2025-11-21 18:57:21 -0500 (Fri, 21 Nov 2025) EllapsedTime: 250.5 seconds RetCode: 0 Status: OK PackageFile: SPsimSeq_1.21.0.tar.gz PackageFileSize: 774.2 KiB