Package: SPsimSeq Version: 1.21.0 Command: /Library/Frameworks/R.framework/Resources/bin/R CMD INSTALL SPsimSeq StartedAt: 2025-11-14 15:23:19 -0500 (Fri, 14 Nov 2025) EndedAt: 2025-11-14 15:23:33 -0500 (Fri, 14 Nov 2025) EllapsedTime: 14.1 seconds RetCode: 0 Status: OK