Package: SPsimSeq Version: 1.21.0 Command: rm -rf SPsimSeq.buildbin-libdir && mkdir SPsimSeq.buildbin-libdir && /Users/biocbuild/BBS/utils/build-universal.sh SPsimSeq_1.21.0.tar.gz /Library/Frameworks/R.framework/Resources/bin/R SPsimSeq.buildbin-libdir StartedAt: 2025-11-14 23:53:42 -0500 (Fri, 14 Nov 2025) EndedAt: 2025-11-14 23:54:00 -0500 (Fri, 14 Nov 2025) EllapsedTime: 17.4 seconds RetCode: 0 Status: OK PackageFile: SPsimSeq_1.21.0.tgz PackageFileSize: 944.8 KiB