Package: SPOTlight Version: 1.13.1 Command: /home/biocbuild/bbs-3.22-bioc/R/bin/R CMD INSTALL SPOTlight StartedAt: 2025-10-06 15:19:31 -0400 (Mon, 06 Oct 2025) EndedAt: 2025-10-06 15:20:08 -0400 (Mon, 06 Oct 2025) EllapsedTime: 36.2 seconds RetCode: 0 Status: OK