Package: SPOTlight Version: 1.13.1 Command: /home/biocbuild/bbs-3.22-bioc/R/bin/R CMD build --keep-empty-dirs --no-resave-data --md5 SPOTlight StartedAt: 2025-10-06 20:17:46 -0400 (Mon, 06 Oct 2025) EndedAt: 2025-10-06 20:20:12 -0400 (Mon, 06 Oct 2025) EllapsedTime: 146.2 seconds RetCode: 0 Status: OK PackageFile: SPOTlight_1.13.1.tar.gz PackageFileSize: 4.072 MiB