Package: SPLINTER Version: 1.35.1 Command: /home/biocbuild/bbs-3.22-bioc/R/bin/R CMD INSTALL SPLINTER StartedAt: 2025-10-01 16:00:47 -0400 (Wed, 01 Oct 2025) EndedAt: 2025-10-01 16:02:02 -0400 (Wed, 01 Oct 2025) EllapsedTime: 74.9 seconds RetCode: 0 Status: OK